BEGIN:VCALENDAR
PRODID:-//OdvozOdpadu//iCal4j 1.0//EN
VERSION:2.0
CALSCALE:GREGORIAN
BEGIN:VEVENT
DTSTAMP:20260419T223453Z
DTSTART;VALUE=DATE:20260113
SUMMARY:Komunálny | Odvoz Odpadu
UID:1393-493444@odvoz-odpadu.eu
DESCRIPTION:Nováky
END:VEVENT
BEGIN:VEVENT
DTSTAMP:20260419T223453Z
DTSTART;VALUE=DATE:20260127
SUMMARY:Komunálny | Odvoz Odpadu
UID:1393-493445@odvoz-odpadu.eu
DESCRIPTION:Nováky
END:VEVENT
BEGIN:VEVENT
DTSTAMP:20260419T223453Z
DTSTART;VALUE=DATE:20260130
SUMMARY:Plast | Odvoz Odpadu
UID:1393-493432@odvoz-odpadu.eu
DESCRIPTION:Nováky
END:VEVENT
BEGIN:VEVENT
DTSTAMP:20260419T223453Z
DTSTART;VALUE=DATE:20260210
SUMMARY:Komunálny | Odvoz Odpadu
UID:1393-493446@odvoz-odpadu.eu
DESCRIPTION:Nováky
END:VEVENT
BEGIN:VEVENT
DTSTAMP:20260419T223453Z
DTSTART;VALUE=DATE:20260224
SUMMARY:Komunálny | Odvoz Odpadu
UID:1393-493447@odvoz-odpadu.eu
DESCRIPTION:Nováky
END:VEVENT
BEGIN:VEVENT
DTSTAMP:20260419T223453Z
DTSTART;VALUE=DATE:20260227
SUMMARY:Plast | Odvoz Odpadu
UID:1393-493433@odvoz-odpadu.eu
DESCRIPTION:Nováky
END:VEVENT
BEGIN:VEVENT
DTSTAMP:20260419T223453Z
DTSTART;VALUE=DATE:20260304
SUMMARY:Bio | Odvoz Odpadu
UID:1393-493412@odvoz-odpadu.eu
DESCRIPTION:Nováky
END:VEVENT
BEGIN:VEVENT
DTSTAMP:20260419T223453Z
DTSTART;VALUE=DATE:20260310
SUMMARY:Komunálny | Odvoz Odpadu
UID:1393-493448@odvoz-odpadu.eu
DESCRIPTION:Nováky
END:VEVENT
BEGIN:VEVENT
DTSTAMP:20260419T223453Z
DTSTART;VALUE=DATE:20260318
SUMMARY:Bio | Odvoz Odpadu
UID:1393-493413@odvoz-odpadu.eu
DESCRIPTION:Nováky
END:VEVENT
BEGIN:VEVENT
DTSTAMP:20260419T223453Z
DTSTART;VALUE=DATE:20260324
SUMMARY:Komunálny | Odvoz Odpadu
UID:1393-493449@odvoz-odpadu.eu
DESCRIPTION:Nováky
END:VEVENT
BEGIN:VEVENT
DTSTAMP:20260419T223453Z
DTSTART;VALUE=DATE:20260327
SUMMARY:Plast | Odvoz Odpadu
UID:1393-493434@odvoz-odpadu.eu
DESCRIPTION:Nováky
END:VEVENT
BEGIN:VEVENT
DTSTAMP:20260419T223453Z
DTSTART;VALUE=DATE:20260401
SUMMARY:Bio | Odvoz Odpadu
UID:1393-493414@odvoz-odpadu.eu
DESCRIPTION:Nováky
END:VEVENT
BEGIN:VEVENT
DTSTAMP:20260419T223453Z
DTSTART;VALUE=DATE:20260407
SUMMARY:Komunálny | Odvoz Odpadu
UID:1393-493450@odvoz-odpadu.eu
DESCRIPTION:Nováky
END:VEVENT
BEGIN:VEVENT
DTSTAMP:20260419T223453Z
DTSTART;VALUE=DATE:20260415
SUMMARY:Bio | Odvoz Odpadu
UID:1393-493415@odvoz-odpadu.eu
DESCRIPTION:Nováky
END:VEVENT
BEGIN:VEVENT
DTSTAMP:20260419T223453Z
DTSTART;VALUE=DATE:20260421
SUMMARY:Komunálny | Odvoz Odpadu
UID:1393-493451@odvoz-odpadu.eu
DESCRIPTION:Nováky
END:VEVENT
BEGIN:VEVENT
DTSTAMP:20260419T223453Z
DTSTART;VALUE=DATE:20260424
SUMMARY:Plast | Odvoz Odpadu
UID:1393-493435@odvoz-odpadu.eu
DESCRIPTION:Nováky
END:VEVENT
BEGIN:VEVENT
DTSTAMP:20260419T223453Z
DTSTART;VALUE=DATE:20260429
SUMMARY:Bio | Odvoz Odpadu
UID:1393-493416@odvoz-odpadu.eu
DESCRIPTION:Nováky
END:VEVENT
BEGIN:VEVENT
DTSTAMP:20260419T223453Z
DTSTART;VALUE=DATE:20260505
SUMMARY:Komunálny | Odvoz Odpadu
UID:1393-493452@odvoz-odpadu.eu
DESCRIPTION:Nováky
END:VEVENT
BEGIN:VEVENT
DTSTAMP:20260419T223453Z
DTSTART;VALUE=DATE:20260513
SUMMARY:Bio | Odvoz Odpadu
UID:1393-493417@odvoz-odpadu.eu
DESCRIPTION:Nováky
END:VEVENT
BEGIN:VEVENT
DTSTAMP:20260419T223453Z
DTSTART;VALUE=DATE:20260519
SUMMARY:Komunálny | Odvoz Odpadu
UID:1393-493453@odvoz-odpadu.eu
DESCRIPTION:Nováky
END:VEVENT
BEGIN:VEVENT
DTSTAMP:20260419T223453Z
DTSTART;VALUE=DATE:20260527
SUMMARY:Bio | Odvoz Odpadu
UID:1393-493418@odvoz-odpadu.eu
DESCRIPTION:Nováky
END:VEVENT
BEGIN:VEVENT
DTSTAMP:20260419T223453Z
DTSTART;VALUE=DATE:20260529
SUMMARY:Plast | Odvoz Odpadu
UID:1393-493436@odvoz-odpadu.eu
DESCRIPTION:Nováky
END:VEVENT
BEGIN:VEVENT
DTSTAMP:20260419T223453Z
DTSTART;VALUE=DATE:20260602
SUMMARY:Komunálny | Odvoz Odpadu
UID:1393-493454@odvoz-odpadu.eu
DESCRIPTION:Nováky
END:VEVENT
BEGIN:VEVENT
DTSTAMP:20260419T223453Z
DTSTART;VALUE=DATE:20260610
SUMMARY:Bio | Odvoz Odpadu
UID:1393-493419@odvoz-odpadu.eu
DESCRIPTION:Nováky
END:VEVENT
BEGIN:VEVENT
DTSTAMP:20260419T223453Z
DTSTART;VALUE=DATE:20260616
SUMMARY:Komunálny | Odvoz Odpadu
UID:1393-493455@odvoz-odpadu.eu
DESCRIPTION:Nováky
END:VEVENT
BEGIN:VEVENT
DTSTAMP:20260419T223453Z
DTSTART;VALUE=DATE:20260624
SUMMARY:Bio | Odvoz Odpadu
UID:1393-493420@odvoz-odpadu.eu
DESCRIPTION:Nováky
END:VEVENT
BEGIN:VEVENT
DTSTAMP:20260419T223453Z
DTSTART;VALUE=DATE:20260626
SUMMARY:Plast | Odvoz Odpadu
UID:1393-493437@odvoz-odpadu.eu
DESCRIPTION:Nováky
END:VEVENT
BEGIN:VEVENT
DTSTAMP:20260419T223453Z
DTSTART;VALUE=DATE:20260630
SUMMARY:Komunálny | Odvoz Odpadu
UID:1393-493456@odvoz-odpadu.eu
DESCRIPTION:Nováky
END:VEVENT
BEGIN:VEVENT
DTSTAMP:20260419T223453Z
DTSTART;VALUE=DATE:20260708
SUMMARY:Bio | Odvoz Odpadu
UID:1393-493421@odvoz-odpadu.eu
DESCRIPTION:Nováky
END:VEVENT
BEGIN:VEVENT
DTSTAMP:20260419T223453Z
DTSTART;VALUE=DATE:20260714
SUMMARY:Komunálny | Odvoz Odpadu
UID:1393-493457@odvoz-odpadu.eu
DESCRIPTION:Nováky
END:VEVENT
BEGIN:VEVENT
DTSTAMP:20260419T223453Z
DTSTART;VALUE=DATE:20260722
SUMMARY:Bio | Odvoz Odpadu
UID:1393-493422@odvoz-odpadu.eu
DESCRIPTION:Nováky
END:VEVENT
BEGIN:VEVENT
DTSTAMP:20260419T223453Z
DTSTART;VALUE=DATE:20260728
SUMMARY:Komunálny | Odvoz Odpadu
UID:1393-493458@odvoz-odpadu.eu
DESCRIPTION:Nováky
END:VEVENT
BEGIN:VEVENT
DTSTAMP:20260419T223453Z
DTSTART;VALUE=DATE:20260731
SUMMARY:Plast | Odvoz Odpadu
UID:1393-493438@odvoz-odpadu.eu
DESCRIPTION:Nováky
END:VEVENT
BEGIN:VEVENT
DTSTAMP:20260419T223453Z
DTSTART;VALUE=DATE:20260805
SUMMARY:Bio | Odvoz Odpadu
UID:1393-493423@odvoz-odpadu.eu
DESCRIPTION:Nováky
END:VEVENT
BEGIN:VEVENT
DTSTAMP:20260419T223453Z
DTSTART;VALUE=DATE:20260811
SUMMARY:Komunálny | Odvoz Odpadu
UID:1393-493459@odvoz-odpadu.eu
DESCRIPTION:Nováky
END:VEVENT
BEGIN:VEVENT
DTSTAMP:20260419T223453Z
DTSTART;VALUE=DATE:20260819
SUMMARY:Bio | Odvoz Odpadu
UID:1393-493424@odvoz-odpadu.eu
DESCRIPTION:Nováky
END:VEVENT
BEGIN:VEVENT
DTSTAMP:20260419T223453Z
DTSTART;VALUE=DATE:20260825
SUMMARY:Komunálny | Odvoz Odpadu
UID:1393-493460@odvoz-odpadu.eu
DESCRIPTION:Nováky
END:VEVENT
BEGIN:VEVENT
DTSTAMP:20260419T223453Z
DTSTART;VALUE=DATE:20260828
SUMMARY:Plast | Odvoz Odpadu
UID:1393-493439@odvoz-odpadu.eu
DESCRIPTION:Nováky
END:VEVENT
BEGIN:VEVENT
DTSTAMP:20260419T223453Z
DTSTART;VALUE=DATE:20260902
SUMMARY:Bio | Odvoz Odpadu
UID:1393-493425@odvoz-odpadu.eu
DESCRIPTION:Nováky
END:VEVENT
BEGIN:VEVENT
DTSTAMP:20260419T223453Z
DTSTART;VALUE=DATE:20260908
SUMMARY:Komunálny | Odvoz Odpadu
UID:1393-493461@odvoz-odpadu.eu
DESCRIPTION:Nováky
END:VEVENT
BEGIN:VEVENT
DTSTAMP:20260419T223453Z
DTSTART;VALUE=DATE:20260916
SUMMARY:Bio | Odvoz Odpadu
UID:1393-493426@odvoz-odpadu.eu
DESCRIPTION:Nováky
END:VEVENT
BEGIN:VEVENT
DTSTAMP:20260419T223453Z
DTSTART;VALUE=DATE:20260922
SUMMARY:Komunálny | Odvoz Odpadu
UID:1393-493462@odvoz-odpadu.eu
DESCRIPTION:Nováky
END:VEVENT
BEGIN:VEVENT
DTSTAMP:20260419T223453Z
DTSTART;VALUE=DATE:20260925
SUMMARY:Plast | Odvoz Odpadu
UID:1393-493440@odvoz-odpadu.eu
DESCRIPTION:Nováky
END:VEVENT
BEGIN:VEVENT
DTSTAMP:20260419T223453Z
DTSTART;VALUE=DATE:20260930
SUMMARY:Bio | Odvoz Odpadu
UID:1393-493427@odvoz-odpadu.eu
DESCRIPTION:Nováky
END:VEVENT
BEGIN:VEVENT
DTSTAMP:20260419T223453Z
DTSTART;VALUE=DATE:20261006
SUMMARY:Komunálny | Odvoz Odpadu
UID:1393-493463@odvoz-odpadu.eu
DESCRIPTION:Nováky
END:VEVENT
BEGIN:VEVENT
DTSTAMP:20260419T223453Z
DTSTART;VALUE=DATE:20261014
SUMMARY:Bio | Odvoz Odpadu
UID:1393-493428@odvoz-odpadu.eu
DESCRIPTION:Nováky
END:VEVENT
BEGIN:VEVENT
DTSTAMP:20260419T223453Z
DTSTART;VALUE=DATE:20261020
SUMMARY:Komunálny | Odvoz Odpadu
UID:1393-493464@odvoz-odpadu.eu
DESCRIPTION:Nováky
END:VEVENT
BEGIN:VEVENT
DTSTAMP:20260419T223453Z
DTSTART;VALUE=DATE:20261022
SUMMARY:Bio | Odvoz Odpadu
UID:1393-493429@odvoz-odpadu.eu
DESCRIPTION:Nováky
END:VEVENT
BEGIN:VEVENT
DTSTAMP:20260419T223453Z
DTSTART;VALUE=DATE:20261030
SUMMARY:Plast | Odvoz Odpadu
UID:1393-493441@odvoz-odpadu.eu
DESCRIPTION:Nováky
END:VEVENT
BEGIN:VEVENT
DTSTAMP:20260419T223453Z
DTSTART;VALUE=DATE:20261103
SUMMARY:Komunálny | Odvoz Odpadu
UID:1393-493465@odvoz-odpadu.eu
DESCRIPTION:Nováky
END:VEVENT
BEGIN:VEVENT
DTSTAMP:20260419T223453Z
DTSTART;VALUE=DATE:20261111
SUMMARY:Bio | Odvoz Odpadu
UID:1393-493430@odvoz-odpadu.eu
DESCRIPTION:Nováky
END:VEVENT
BEGIN:VEVENT
DTSTAMP:20260419T223453Z
DTSTART;VALUE=DATE:20261117
SUMMARY:Komunálny | Odvoz Odpadu
UID:1393-493466@odvoz-odpadu.eu
DESCRIPTION:Nováky
END:VEVENT
BEGIN:VEVENT
DTSTAMP:20260419T223453Z
DTSTART;VALUE=DATE:20261125
SUMMARY:Bio | Odvoz Odpadu
UID:1393-493431@odvoz-odpadu.eu
DESCRIPTION:Nováky
END:VEVENT
BEGIN:VEVENT
DTSTAMP:20260419T223453Z
DTSTART;VALUE=DATE:20261127
SUMMARY:Plast | Odvoz Odpadu
UID:1393-493442@odvoz-odpadu.eu
DESCRIPTION:Nováky
END:VEVENT
BEGIN:VEVENT
DTSTAMP:20260419T223453Z
DTSTART;VALUE=DATE:20261201
SUMMARY:Komunálny | Odvoz Odpadu
UID:1393-493467@odvoz-odpadu.eu
DESCRIPTION:Nováky
END:VEVENT
BEGIN:VEVENT
DTSTAMP:20260419T223453Z
DTSTART;VALUE=DATE:20261215
SUMMARY:Komunálny | Odvoz Odpadu
UID:1393-493468@odvoz-odpadu.eu
DESCRIPTION:Nováky
END:VEVENT
BEGIN:VEVENT
DTSTAMP:20260419T223453Z
DTSTART;VALUE=DATE:20261229
SUMMARY:Komunálny | Odvoz Odpadu
UID:1393-493469@odvoz-odpadu.eu
DESCRIPTION:Nováky
END:VEVENT
BEGIN:VEVENT
DTSTAMP:20260419T223453Z
DTSTART;VALUE=DATE:20261231
SUMMARY:Plast | Odvoz Odpadu
UID:1393-493443@odvoz-odpadu.eu
DESCRIPTION:Nováky
END:VEVENT
END:VCALENDAR
