BEGIN:VCALENDAR
PRODID:-//OdvozOdpadu//iCal4j 1.0//EN
VERSION:2.0
CALSCALE:GREGORIAN
BEGIN:VEVENT
DTSTAMP:20260420T222010Z
DTSTART;VALUE=DATE:20260106
SUMMARY:Papier | Odvoz Odpadu
UID:1394-493634@odvoz-odpadu.eu
DESCRIPTION:Kravany nad Dunajom
END:VEVENT
BEGIN:VEVENT
DTSTAMP:20260420T222010Z
DTSTART;VALUE=DATE:20260109
SUMMARY:Komunálny | Odvoz Odpadu
UID:1394-493597@odvoz-odpadu.eu
DESCRIPTION:Kravany nad Dunajom
END:VEVENT
BEGIN:VEVENT
DTSTAMP:20260420T222010Z
DTSTART;VALUE=DATE:20260121
SUMMARY:Plast | Odvoz Odpadu
UID:1394-493633@odvoz-odpadu.eu
DESCRIPTION:Kravany nad Dunajom
END:VEVENT
BEGIN:VEVENT
DTSTAMP:20260420T222010Z
DTSTART;VALUE=DATE:20260123
SUMMARY:Komunálny | Odvoz Odpadu
UID:1394-493598@odvoz-odpadu.eu
DESCRIPTION:Kravany nad Dunajom
END:VEVENT
BEGIN:VEVENT
DTSTAMP:20260420T222010Z
DTSTART;VALUE=DATE:20260206
SUMMARY:Komunálny | Odvoz Odpadu
UID:1394-493599@odvoz-odpadu.eu
DESCRIPTION:Kravany nad Dunajom
END:VEVENT
BEGIN:VEVENT
DTSTAMP:20260420T222010Z
DTSTART;VALUE=DATE:20260218
SUMMARY:Plast | Odvoz Odpadu
UID:1394-493632@odvoz-odpadu.eu
DESCRIPTION:Kravany nad Dunajom
END:VEVENT
BEGIN:VEVENT
DTSTAMP:20260420T222010Z
DTSTART;VALUE=DATE:20260220
SUMMARY:Komunálny | Odvoz Odpadu
UID:1394-493600@odvoz-odpadu.eu
DESCRIPTION:Kravany nad Dunajom
END:VEVENT
BEGIN:VEVENT
DTSTAMP:20260420T222010Z
DTSTART;VALUE=DATE:20260224
SUMMARY:Sklo | Odvoz Odpadu
UID:1394-493641@odvoz-odpadu.eu
DESCRIPTION:Kravany nad Dunajom
END:VEVENT
BEGIN:VEVENT
DTSTAMP:20260420T222010Z
DTSTART;VALUE=DATE:20260306
SUMMARY:Komunálny | Odvoz Odpadu
UID:1394-493601@odvoz-odpadu.eu
DESCRIPTION:Kravany nad Dunajom
END:VEVENT
BEGIN:VEVENT
DTSTAMP:20260420T222010Z
DTSTART;VALUE=DATE:20260318
SUMMARY:Plast | Odvoz Odpadu
UID:1394-493631@odvoz-odpadu.eu
DESCRIPTION:Kravany nad Dunajom
END:VEVENT
BEGIN:VEVENT
DTSTAMP:20260420T222010Z
DTSTART;VALUE=DATE:20260320
SUMMARY:Komunálny | Odvoz Odpadu
UID:1394-493602@odvoz-odpadu.eu
DESCRIPTION:Kravany nad Dunajom
END:VEVENT
BEGIN:VEVENT
DTSTAMP:20260420T222010Z
DTSTART;VALUE=DATE:20260401
SUMMARY:Komunálny | Odvoz Odpadu
UID:1394-493603@odvoz-odpadu.eu
DESCRIPTION:Kravany nad Dunajom
END:VEVENT
BEGIN:VEVENT
DTSTAMP:20260420T222010Z
DTSTART;VALUE=DATE:20260410
SUMMARY:Papier | Odvoz Odpadu
UID:1394-493635@odvoz-odpadu.eu
DESCRIPTION:Kravany nad Dunajom
END:VEVENT
BEGIN:VEVENT
DTSTAMP:20260420T222010Z
DTSTART;VALUE=DATE:20260417
SUMMARY:Komunálny | Odvoz Odpadu
UID:1394-493604@odvoz-odpadu.eu
DESCRIPTION:Kravany nad Dunajom
END:VEVENT
BEGIN:VEVENT
DTSTAMP:20260420T222010Z
DTSTART;VALUE=DATE:20260422
SUMMARY:Plast | Odvoz Odpadu
UID:1394-493630@odvoz-odpadu.eu
DESCRIPTION:Kravany nad Dunajom
END:VEVENT
BEGIN:VEVENT
DTSTAMP:20260420T222010Z
DTSTART;VALUE=DATE:20260504
SUMMARY:Komunálny | Odvoz Odpadu
UID:1394-493605@odvoz-odpadu.eu
DESCRIPTION:Kravany nad Dunajom
END:VEVENT
BEGIN:VEVENT
DTSTAMP:20260420T222010Z
DTSTART;VALUE=DATE:20260515
SUMMARY:Komunálny | Odvoz Odpadu
UID:1394-493606@odvoz-odpadu.eu
DESCRIPTION:Kravany nad Dunajom
END:VEVENT
BEGIN:VEVENT
DTSTAMP:20260420T222010Z
DTSTART;VALUE=DATE:20260520
SUMMARY:Plast | Odvoz Odpadu
UID:1394-493629@odvoz-odpadu.eu
DESCRIPTION:Kravany nad Dunajom
END:VEVENT
BEGIN:VEVENT
DTSTAMP:20260420T222010Z
DTSTART;VALUE=DATE:20260526
SUMMARY:Sklo | Odvoz Odpadu
UID:1394-493640@odvoz-odpadu.eu
DESCRIPTION:Kravany nad Dunajom
END:VEVENT
BEGIN:VEVENT
DTSTAMP:20260420T222010Z
DTSTART;VALUE=DATE:20260529
SUMMARY:Komunálny | Odvoz Odpadu
UID:1394-493607@odvoz-odpadu.eu
DESCRIPTION:Kravany nad Dunajom
END:VEVENT
BEGIN:VEVENT
DTSTAMP:20260420T222010Z
DTSTART;VALUE=DATE:20260612
SUMMARY:Komunálny | Odvoz Odpadu
UID:1394-493608@odvoz-odpadu.eu
DESCRIPTION:Kravany nad Dunajom
END:VEVENT
BEGIN:VEVENT
DTSTAMP:20260420T222010Z
DTSTART;VALUE=DATE:20260624
SUMMARY:Plast | Odvoz Odpadu
UID:1394-493628@odvoz-odpadu.eu
DESCRIPTION:Kravany nad Dunajom
END:VEVENT
BEGIN:VEVENT
DTSTAMP:20260420T222010Z
DTSTART;VALUE=DATE:20260626
SUMMARY:Komunálny | Odvoz Odpadu
UID:1394-493609@odvoz-odpadu.eu
DESCRIPTION:Kravany nad Dunajom
END:VEVENT
BEGIN:VEVENT
DTSTAMP:20260420T222010Z
DTSTART;VALUE=DATE:20260707
SUMMARY:Papier | Odvoz Odpadu
UID:1394-493636@odvoz-odpadu.eu
DESCRIPTION:Kravany nad Dunajom
END:VEVENT
BEGIN:VEVENT
DTSTAMP:20260420T222010Z
DTSTART;VALUE=DATE:20260710
SUMMARY:Komunálny | Odvoz Odpadu
UID:1394-493610@odvoz-odpadu.eu
DESCRIPTION:Kravany nad Dunajom
END:VEVENT
BEGIN:VEVENT
DTSTAMP:20260420T222010Z
DTSTART;VALUE=DATE:20260722
SUMMARY:Plast | Odvoz Odpadu
UID:1394-493627@odvoz-odpadu.eu
DESCRIPTION:Kravany nad Dunajom
END:VEVENT
BEGIN:VEVENT
DTSTAMP:20260420T222010Z
DTSTART;VALUE=DATE:20260724
SUMMARY:Komunálny | Odvoz Odpadu
UID:1394-493611@odvoz-odpadu.eu
DESCRIPTION:Kravany nad Dunajom
END:VEVENT
BEGIN:VEVENT
DTSTAMP:20260420T222010Z
DTSTART;VALUE=DATE:20260807
SUMMARY:Komunálny | Odvoz Odpadu
UID:1394-493612@odvoz-odpadu.eu
DESCRIPTION:Kravany nad Dunajom
END:VEVENT
BEGIN:VEVENT
DTSTAMP:20260420T222010Z
DTSTART;VALUE=DATE:20260819
SUMMARY:Plast | Odvoz Odpadu
UID:1394-493626@odvoz-odpadu.eu
DESCRIPTION:Kravany nad Dunajom
END:VEVENT
BEGIN:VEVENT
DTSTAMP:20260420T222010Z
DTSTART;VALUE=DATE:20260821
SUMMARY:Komunálny | Odvoz Odpadu
UID:1394-493613@odvoz-odpadu.eu
DESCRIPTION:Kravany nad Dunajom
END:VEVENT
BEGIN:VEVENT
DTSTAMP:20260420T222010Z
DTSTART;VALUE=DATE:20260825
SUMMARY:Sklo | Odvoz Odpadu
UID:1394-493639@odvoz-odpadu.eu
DESCRIPTION:Kravany nad Dunajom
END:VEVENT
BEGIN:VEVENT
DTSTAMP:20260420T222010Z
DTSTART;VALUE=DATE:20260904
SUMMARY:Komunálny | Odvoz Odpadu
UID:1394-493614@odvoz-odpadu.eu
DESCRIPTION:Kravany nad Dunajom
END:VEVENT
BEGIN:VEVENT
DTSTAMP:20260420T222010Z
DTSTART;VALUE=DATE:20260918
SUMMARY:Komunálny | Odvoz Odpadu
UID:1394-493615@odvoz-odpadu.eu
DESCRIPTION:Kravany nad Dunajom
END:VEVENT
BEGIN:VEVENT
DTSTAMP:20260420T222010Z
DTSTART;VALUE=DATE:20260923
SUMMARY:Plast | Odvoz Odpadu
UID:1394-493625@odvoz-odpadu.eu
DESCRIPTION:Kravany nad Dunajom
END:VEVENT
BEGIN:VEVENT
DTSTAMP:20260420T222010Z
DTSTART;VALUE=DATE:20261002
SUMMARY:Komunálny | Odvoz Odpadu
UID:1394-493616@odvoz-odpadu.eu
DESCRIPTION:Kravany nad Dunajom
END:VEVENT
BEGIN:VEVENT
DTSTAMP:20260420T222010Z
DTSTART;VALUE=DATE:20261006
SUMMARY:Papier | Odvoz Odpadu
UID:1394-493637@odvoz-odpadu.eu
DESCRIPTION:Kravany nad Dunajom
END:VEVENT
BEGIN:VEVENT
DTSTAMP:20260420T222010Z
DTSTART;VALUE=DATE:20261016
SUMMARY:Komunálny | Odvoz Odpadu
UID:1394-493617@odvoz-odpadu.eu
DESCRIPTION:Kravany nad Dunajom
END:VEVENT
BEGIN:VEVENT
DTSTAMP:20260420T222010Z
DTSTART;VALUE=DATE:20261021
SUMMARY:Plast | Odvoz Odpadu
UID:1394-493624@odvoz-odpadu.eu
DESCRIPTION:Kravany nad Dunajom
END:VEVENT
BEGIN:VEVENT
DTSTAMP:20260420T222010Z
DTSTART;VALUE=DATE:20261030
SUMMARY:Komunálny | Odvoz Odpadu
UID:1394-493618@odvoz-odpadu.eu
DESCRIPTION:Kravany nad Dunajom
END:VEVENT
BEGIN:VEVENT
DTSTAMP:20260420T222010Z
DTSTART;VALUE=DATE:20261113
SUMMARY:Komunálny | Odvoz Odpadu
UID:1394-493619@odvoz-odpadu.eu
DESCRIPTION:Kravany nad Dunajom
END:VEVENT
BEGIN:VEVENT
DTSTAMP:20260420T222010Z
DTSTART;VALUE=DATE:20261118
SUMMARY:Plast | Odvoz Odpadu
UID:1394-493623@odvoz-odpadu.eu
DESCRIPTION:Kravany nad Dunajom
END:VEVENT
BEGIN:VEVENT
DTSTAMP:20260420T222010Z
DTSTART;VALUE=DATE:20261124
SUMMARY:Sklo | Odvoz Odpadu
UID:1394-493638@odvoz-odpadu.eu
DESCRIPTION:Kravany nad Dunajom
END:VEVENT
BEGIN:VEVENT
DTSTAMP:20260420T222010Z
DTSTART;VALUE=DATE:20261127
SUMMARY:Komunálny | Odvoz Odpadu
UID:1394-493620@odvoz-odpadu.eu
DESCRIPTION:Kravany nad Dunajom
END:VEVENT
BEGIN:VEVENT
DTSTAMP:20260420T222010Z
DTSTART;VALUE=DATE:20261211
SUMMARY:Komunálny | Odvoz Odpadu
UID:1394-493621@odvoz-odpadu.eu
DESCRIPTION:Kravany nad Dunajom
END:VEVENT
BEGIN:VEVENT
DTSTAMP:20260420T222010Z
DTSTART;VALUE=DATE:20261223
SUMMARY:Plast | Odvoz Odpadu
UID:1394-493622@odvoz-odpadu.eu
DESCRIPTION:Kravany nad Dunajom
END:VEVENT
END:VCALENDAR
